BEGIN:VCALENDAR
VERSION:2.0
PRODID:-//St. Dominic School - ECPv5.8.0//NONSGML v1.0//EN
CALSCALE:GREGORIAN
METHOD:PUBLISH
X-WR-CALNAME:St. Dominic School
X-ORIGINAL-URL:https://stdominicdelhi-school.org
X-WR-CALDESC:Events for St. Dominic School
BEGIN:VTIMEZONE
TZID:UTC
BEGIN:STANDARD
TZOFFSETFROM:+0000
TZOFFSETTO:+0000
TZNAME:UTC
DTSTART:20220101T000000
END:STANDARD
END:VTIMEZONE
BEGIN:VEVENT
DTSTART;TZID=UTC:20220407T200000
DTEND;TZID=UTC:20220407T213000
DTSTAMP:20260419T201035
CREATED:20211130T144654Z
LAST-MODIFIED:20211214T191920Z
UID:14415-1649361600-1649367000@stdominicdelhi-school.org
SUMMARY:Athletic Association Meeting
DESCRIPTION:O’Connor Hall
URL:https://stdominicdelhi-school.org/event/athletic-association-meeting-4/
END:VEVENT
END:VCALENDAR