BEGIN:VCALENDAR
VERSION:2.0
PRODID:-//St. Dominic School - ECPv5.8.0//NONSGML v1.0//EN
CALSCALE:GREGORIAN
METHOD:PUBLISH
X-WR-CALNAME:St. Dominic School
X-ORIGINAL-URL:https://stdominicdelhi-school.org
X-WR-CALDESC:Events for St. Dominic School
BEGIN:VTIMEZONE
TZID:UTC
BEGIN:STANDARD
TZOFFSETFROM:+0000
TZOFFSETTO:+0000
TZNAME:UTC
DTSTART:20220101T000000
END:STANDARD
END:VTIMEZONE
BEGIN:VEVENT
DTSTART;TZID=UTC:20220507T110000
DTEND;TZID=UTC:20220507T120000
DTSTAMP:20260425T013842
CREATED:20211129T022311Z
LAST-MODIFIED:20211214T191627Z
UID:14297-1651921200-1651924800@stdominicdelhi-school.org
SUMMARY:First Communion
DESCRIPTION:2nd Graders
URL:https://stdominicdelhi-school.org/event/first-communion/
END:VEVENT
END:VCALENDAR