BEGIN:VCALENDAR
VERSION:2.0
PRODID:-//St. Dominic School - ECPv5.8.0//NONSGML v1.0//EN
CALSCALE:GREGORIAN
METHOD:PUBLISH
X-WR-CALNAME:St. Dominic School
X-ORIGINAL-URL:https://stdominicdelhi-school.org
X-WR-CALDESC:Events for St. Dominic School
BEGIN:VTIMEZONE
TZID:UTC
BEGIN:STANDARD
TZOFFSETFROM:+0000
TZOFFSETTO:+0000
TZNAME:UTC
DTSTART:20210101T000000
END:STANDARD
END:VTIMEZONE
BEGIN:VEVENT
DTSTART;VALUE=DATE:20211215
DTEND;VALUE=DATE:20211216
DTSTAMP:20260423T002411
CREATED:20211129T133507Z
LAST-MODIFIED:20211214T141533Z
UID:14311-1639526400-1639612799@stdominicdelhi-school.org
SUMMARY:STEM Club - 3rd & 4th Grade
DESCRIPTION:
URL:https://stdominicdelhi-school.org/event/stem-club-3rd-4th-grade/
END:VEVENT
BEGIN:VEVENT
DTSTART;VALUE=DATE:20211215
DTEND;VALUE=DATE:20211216
DTSTAMP:20260423T002411
CREATED:20211209T215341Z
LAST-MODIFIED:20211214T141604Z
UID:14669-1639526400-1639612799@stdominicdelhi-school.org
SUMMARY:Art Club
DESCRIPTION:5th and 6th Grade
URL:https://stdominicdelhi-school.org/event/art-club/
END:VEVENT
BEGIN:VEVENT
DTSTART;TZID=UTC:20211215T190000
DTEND;TZID=UTC:20211215T200000
DTSTAMP:20260423T002411
CREATED:20211129T175830Z
LAST-MODIFIED:20211129T175830Z
UID:14335-1639594800-1639598400@stdominicdelhi-school.org
SUMMARY:1st Grade Christmas Play
DESCRIPTION:
URL:https://stdominicdelhi-school.org/event/1st-grade-christmas-play/
END:VEVENT
END:VCALENDAR