BEGIN:VCALENDAR
VERSION:2.0
PRODID:-//St. Dominic School - ECPv5.8.0//NONSGML v1.0//EN
CALSCALE:GREGORIAN
METHOD:PUBLISH
X-WR-CALNAME:St. Dominic School
X-ORIGINAL-URL:https://stdominicdelhi-school.org
X-WR-CALDESC:Events for St. Dominic School
BEGIN:VTIMEZONE
TZID:UTC
BEGIN:STANDARD
TZOFFSETFROM:+0000
TZOFFSETTO:+0000
TZNAME:UTC
DTSTART:20220101T000000
END:STANDARD
END:VTIMEZONE
BEGIN:VEVENT
DTSTART;VALUE=DATE:20220126
DTEND;VALUE=DATE:20220127
DTSTAMP:20260422T224805
CREATED:20211209T215829Z
LAST-MODIFIED:20211214T192734Z
UID:14679-1643155200-1643241599@stdominicdelhi-school.org
SUMMARY:Art Club
DESCRIPTION:3rd and 4th Grade
URL:https://stdominicdelhi-school.org/event/art-club-3/
END:VEVENT
END:VCALENDAR