BEGIN:VCALENDAR
VERSION:2.0
PRODID:-//St. Dominic School - ECPv5.8.0//NONSGML v1.0//EN
CALSCALE:GREGORIAN
METHOD:PUBLISH
X-WR-CALNAME:St. Dominic School
X-ORIGINAL-URL:https://stdominicdelhi-school.org
X-WR-CALDESC:Events for St. Dominic School
BEGIN:VTIMEZONE
TZID:UTC
BEGIN:STANDARD
TZOFFSETFROM:+0000
TZOFFSETTO:+0000
TZNAME:UTC
DTSTART:20220101T000000
END:STANDARD
END:VTIMEZONE
BEGIN:VEVENT
DTSTART;VALUE=DATE:20220131
DTEND;VALUE=DATE:20220205
DTSTAMP:20260422T212046
CREATED:20211129T020326Z
LAST-MODIFIED:20211214T192642Z
UID:14268-1643587200-1644019199@stdominicdelhi-school.org
SUMMARY:Catholic Schools Week
DESCRIPTION:
URL:https://stdominicdelhi-school.org/event/catholic-schools-week/
END:VEVENT
END:VCALENDAR