BEGIN:VCALENDAR
VERSION:2.0
PRODID:-//St. Dominic School - ECPv5.8.0//NONSGML v1.0//EN
CALSCALE:GREGORIAN
METHOD:PUBLISH
X-WR-CALNAME:St. Dominic School
X-ORIGINAL-URL:https://stdominicdelhi-school.org
X-WR-CALDESC:Events for St. Dominic School
BEGIN:VTIMEZONE
TZID:UTC
BEGIN:STANDARD
TZOFFSETFROM:+0000
TZOFFSETTO:+0000
TZNAME:UTC
DTSTART:20220101T000000
END:STANDARD
END:VTIMEZONE
BEGIN:VEVENT
DTSTART;VALUE=DATE:20220221
DTEND;VALUE=DATE:20220222
DTSTAMP:20260422T212047
CREATED:20211129T021549Z
LAST-MODIFIED:20211214T192211Z
UID:14280-1645401600-1645487999@stdominicdelhi-school.org
SUMMARY:President's Day - School Closed
DESCRIPTION:
URL:https://stdominicdelhi-school.org/event/presidents-day-school-closed/
END:VEVENT
END:VCALENDAR