BEGIN:VCALENDAR
VERSION:2.0
PRODID:-//St. Dominic School - ECPv5.8.0//NONSGML v1.0//EN
CALSCALE:GREGORIAN
METHOD:PUBLISH
X-WR-CALNAME:St. Dominic School
X-ORIGINAL-URL:https://stdominicdelhi-school.org
X-WR-CALDESC:Events for St. Dominic School
BEGIN:VTIMEZONE
TZID:UTC
BEGIN:STANDARD
TZOFFSETFROM:+0000
TZOFFSETTO:+0000
TZNAME:UTC
DTSTART:20220101T000000
END:STANDARD
END:VTIMEZONE
BEGIN:VEVENT
DTSTART;VALUE=DATE:20220223
DTEND;VALUE=DATE:20220226
DTSTAMP:20260422T212144
CREATED:20220122T125159Z
LAST-MODIFIED:20220122T125159Z
UID:14845-1645574400-1645833599@stdominicdelhi-school.org
SUMMARY:Camp Kern (5th Grade)
DESCRIPTION:
URL:https://stdominicdelhi-school.org/event/camp-kern-5th-grade/
END:VEVENT
BEGIN:VEVENT
DTSTART;VALUE=DATE:20220223
DTEND;VALUE=DATE:20220224
DTSTAMP:20260422T212144
CREATED:20211129T175732Z
LAST-MODIFIED:20211214T192151Z
UID:14333-1645574400-1645660799@stdominicdelhi-school.org
SUMMARY:STEM Club - 3rd & 4th Grade
DESCRIPTION:
URL:https://stdominicdelhi-school.org/event/stem-club-3rd-4th-grade-2/
END:VEVENT
END:VCALENDAR