BEGIN:VCALENDAR
VERSION:2.0
PRODID:-//St. Dominic School - ECPv5.8.0//NONSGML v1.0//EN
CALSCALE:GREGORIAN
METHOD:PUBLISH
X-WR-CALNAME:St. Dominic School
X-ORIGINAL-URL:https://stdominicdelhi-school.org
X-WR-CALDESC:Events for St. Dominic School
BEGIN:VTIMEZONE
TZID:UTC
BEGIN:STANDARD
TZOFFSETFROM:+0000
TZOFFSETTO:+0000
TZNAME:UTC
DTSTART:20220101T000000
END:STANDARD
END:VTIMEZONE
BEGIN:VEVENT
DTSTART;VALUE=DATE:20220415
DTEND;VALUE=DATE:20220416
DTSTAMP:20260422T181153
CREATED:20211129T021847Z
LAST-MODIFIED:20211214T191841Z
UID:14286-1649980800-1650067199@stdominicdelhi-school.org
SUMMARY:Good Friday - School Closed
DESCRIPTION:
URL:https://stdominicdelhi-school.org/event/good-friday-school-closed/
END:VEVENT
END:VCALENDAR