BEGIN:VCALENDAR
VERSION:2.0
PRODID:-//St. Dominic School - ECPv5.8.0//NONSGML v1.0//EN
CALSCALE:GREGORIAN
METHOD:PUBLISH
X-WR-CALNAME:St. Dominic School
X-ORIGINAL-URL:https://stdominicdelhi-school.org
X-WR-CALDESC:Events for St. Dominic School
BEGIN:VTIMEZONE
TZID:UTC
BEGIN:STANDARD
TZOFFSETFROM:+0000
TZOFFSETTO:+0000
TZNAME:UTC
DTSTART:20220101T000000
END:STANDARD
END:VTIMEZONE
BEGIN:VEVENT
DTSTART;VALUE=DATE:20220524
DTEND;VALUE=DATE:20220525
DTSTAMP:20260422T230109
CREATED:20211129T022428Z
LAST-MODIFIED:20211214T191510Z
UID:14301-1653350400-1653436799@stdominicdelhi-school.org
SUMMARY:Last Day of Preschool
DESCRIPTION:
URL:https://stdominicdelhi-school.org/event/last-day-of-preschool/
END:VEVENT
BEGIN:VEVENT
DTSTART;TZID=UTC:20220524T190000
DTEND;TZID=UTC:20220524T200000
DTSTAMP:20260422T230109
CREATED:20211129T022506Z
LAST-MODIFIED:20211214T191454Z
UID:14303-1653418800-1653422400@stdominicdelhi-school.org
SUMMARY:8th Grade Graduation
DESCRIPTION:
URL:https://stdominicdelhi-school.org/event/8th-grade-graduation/
END:VEVENT
BEGIN:VEVENT
DTSTART;VALUE=DATE:20220526
DTEND;VALUE=DATE:20220527
DTSTAMP:20260422T230109
CREATED:20211129T022554Z
LAST-MODIFIED:20211214T191416Z
UID:14305-1653523200-1653609599@stdominicdelhi-school.org
SUMMARY:Last Day of School
DESCRIPTION:1:00 PM Dismissal K-8
URL:https://stdominicdelhi-school.org/event/last-day-of-school/
END:VEVENT
END:VCALENDAR