BEGIN:VCALENDAR
VERSION:2.0
PRODID:-//St. Dominic School - ECPv5.8.0//NONSGML v1.0//EN
CALSCALE:GREGORIAN
METHOD:PUBLISH
X-WR-CALNAME:St. Dominic School
X-ORIGINAL-URL:https://stdominicdelhi-school.org
X-WR-CALDESC:Events for St. Dominic School
BEGIN:VTIMEZONE
TZID:UTC
BEGIN:STANDARD
TZOFFSETFROM:+0000
TZOFFSETTO:+0000
TZNAME:UTC
DTSTART:20220101T000000
END:STANDARD
END:VTIMEZONE
BEGIN:VEVENT
DTSTART;TZID=UTC:20220303T190000
DTEND;TZID=UTC:20220303T200000
DTSTAMP:20260422T181200
CREATED:20211129T215749Z
LAST-MODIFIED:20211214T192135Z
UID:14381-1646334000-1646337600@stdominicdelhi-school.org
SUMMARY:Confirmation - 8th Grade
DESCRIPTION:
URL:https://stdominicdelhi-school.org/event/confirmation-8th-grade/
END:VEVENT
BEGIN:VEVENT
DTSTART;VALUE=DATE:20220308
DTEND;VALUE=DATE:20220309
DTSTAMP:20260422T181200
CREATED:20211129T021651Z
LAST-MODIFIED:20211214T192039Z
UID:14282-1646697600-1646783999@stdominicdelhi-school.org
SUMMARY:End of 2nd Trimester
DESCRIPTION:
URL:https://stdominicdelhi-school.org/event/end-of-2nd-trimester/
END:VEVENT
BEGIN:VEVENT
DTSTART;VALUE=DATE:20220310
DTEND;VALUE=DATE:20220311
DTSTAMP:20260422T181200
CREATED:20220122T122141Z
LAST-MODIFIED:20220122T122141Z
UID:14809-1646870400-1646956799@stdominicdelhi-school.org
SUMMARY:Student Council Meeting
DESCRIPTION:
URL:https://stdominicdelhi-school.org/event/student-council-meeting-2/
END:VEVENT
BEGIN:VEVENT
DTSTART;VALUE=DATE:20220310
DTEND;VALUE=DATE:20220311
DTSTAMP:20260422T181200
CREATED:20220122T122218Z
LAST-MODIFIED:20220122T122218Z
UID:14811-1646870400-1646956799@stdominicdelhi-school.org
SUMMARY:Blackhawk Singers
DESCRIPTION:
URL:https://stdominicdelhi-school.org/event/blackhawk-singers-8/
END:VEVENT
BEGIN:VEVENT
DTSTART;VALUE=DATE:20220310
DTEND;VALUE=DATE:20220311
DTSTAMP:20260422T181200
CREATED:20211209T214802Z
LAST-MODIFIED:20211214T192020Z
UID:14656-1646870400-1646956799@stdominicdelhi-school.org
SUMMARY:Archery Club
DESCRIPTION:7th & 8th Graders
URL:https://stdominicdelhi-school.org/event/archery-club-4/
END:VEVENT
BEGIN:VEVENT
DTSTART;TZID=UTC:20220310T070000
DTEND;TZID=UTC:20220310T210000
DTSTAMP:20260422T181200
CREATED:20220305T122133Z
LAST-MODIFIED:20220305T122224Z
UID:14859-1646895600-1646946000@stdominicdelhi-school.org
SUMMARY:PTO/Athletic Association Meeting
DESCRIPTION:O’Conner Hall
URL:https://stdominicdelhi-school.org/event/pto-athletic-association-meeting/
END:VEVENT
BEGIN:VEVENT
DTSTART;TZID=UTC:20220314T190000
DTEND;TZID=UTC:20220314T210000
DTSTAMP:20260422T181200
CREATED:20211130T145156Z
LAST-MODIFIED:20211214T192000Z
UID:14423-1647284400-1647291600@stdominicdelhi-school.org
SUMMARY:Education Commission Meeting
DESCRIPTION:School Library
URL:https://stdominicdelhi-school.org/event/education-commission-meeting-4/
END:VEVENT
BEGIN:VEVENT
DTSTART;VALUE=DATE:20220316
DTEND;VALUE=DATE:20220317
DTSTAMP:20260422T181200
CREATED:20220122T122322Z
LAST-MODIFIED:20220122T122322Z
UID:14813-1647388800-1647475199@stdominicdelhi-school.org
SUMMARY:STEM Club - 5th-8th Grade
DESCRIPTION:
URL:https://stdominicdelhi-school.org/event/stem-club-5th-8th-grade-2/
END:VEVENT
BEGIN:VEVENT
DTSTART;VALUE=DATE:20220317
DTEND;VALUE=DATE:20220318
DTSTAMP:20260422T181200
CREATED:20220122T122409Z
LAST-MODIFIED:20220122T122409Z
UID:14815-1647475200-1647561599@stdominicdelhi-school.org
SUMMARY:Blackhawk Singers
DESCRIPTION:
URL:https://stdominicdelhi-school.org/event/blackhawk-singers-9/
END:VEVENT
BEGIN:VEVENT
DTSTART;VALUE=DATE:20220318
DTEND;VALUE=DATE:20220319
DTSTAMP:20260422T181200
CREATED:20211129T021755Z
LAST-MODIFIED:20211214T191939Z
UID:14284-1647561600-1647647999@stdominicdelhi-school.org
SUMMARY:Staff In-Service\, no students
DESCRIPTION:No school for students
URL:https://stdominicdelhi-school.org/event/staff-in-service/
END:VEVENT
BEGIN:VEVENT
DTSTART;VALUE=DATE:20220324
DTEND;VALUE=DATE:20220325
DTSTAMP:20260422T181200
CREATED:20220122T122511Z
LAST-MODIFIED:20220122T122511Z
UID:14817-1648080000-1648166399@stdominicdelhi-school.org
SUMMARY:Blackhawk Singers
DESCRIPTION:
URL:https://stdominicdelhi-school.org/event/blackhawk-singers-10/
END:VEVENT
BEGIN:VEVENT
DTSTART;VALUE=DATE:20220331
DTEND;VALUE=DATE:20220401
DTSTAMP:20260422T181200
CREATED:20220122T122531Z
LAST-MODIFIED:20220122T122531Z
UID:14819-1648684800-1648771199@stdominicdelhi-school.org
SUMMARY:Blackhawk Singers
DESCRIPTION:
URL:https://stdominicdelhi-school.org/event/blackhawk-singers-11/
END:VEVENT
END:VCALENDAR