BEGIN:VCALENDAR
VERSION:2.0
PRODID:-//St. Dominic School - ECPv5.8.0//NONSGML v1.0//EN
CALSCALE:GREGORIAN
METHOD:PUBLISH
X-WR-CALNAME:St. Dominic School
X-ORIGINAL-URL:https://stdominicdelhi-school.org
X-WR-CALDESC:Events for St. Dominic School
BEGIN:VTIMEZONE
TZID:UTC
BEGIN:STANDARD
TZOFFSETFROM:+0000
TZOFFSETTO:+0000
TZNAME:UTC
DTSTART:20220101T000000
END:STANDARD
END:VTIMEZONE
BEGIN:VEVENT
DTSTART;VALUE=DATE:20220406
DTEND;VALUE=DATE:20220407
DTSTAMP:20260422T164850
CREATED:20211209T214841Z
LAST-MODIFIED:20211214T182419Z
UID:14658-1649203200-1649289599@stdominicdelhi-school.org
SUMMARY:Archery Club
DESCRIPTION:7th and 8th Graders
URL:https://stdominicdelhi-school.org/event/archery-club-5/
END:VEVENT
BEGIN:VEVENT
DTSTART;VALUE=DATE:20220407
DTEND;VALUE=DATE:20220408
DTSTAMP:20260422T164850
CREATED:20220122T122620Z
LAST-MODIFIED:20220122T122620Z
UID:14821-1649289600-1649375999@stdominicdelhi-school.org
SUMMARY:Blackhawk Singers
DESCRIPTION:
URL:https://stdominicdelhi-school.org/event/blackhawk-singers-12/
END:VEVENT
BEGIN:VEVENT
DTSTART;TZID=UTC:20220407T200000
DTEND;TZID=UTC:20220407T213000
DTSTAMP:20260422T164850
CREATED:20211130T144654Z
LAST-MODIFIED:20211214T191920Z
UID:14415-1649361600-1649367000@stdominicdelhi-school.org
SUMMARY:Athletic Association Meeting
DESCRIPTION:O’Connor Hall
URL:https://stdominicdelhi-school.org/event/athletic-association-meeting-4/
END:VEVENT
BEGIN:VEVENT
DTSTART;TZID=UTC:20220411T190000
DTEND;TZID=UTC:20220411T210000
DTSTAMP:20260422T164850
CREATED:20211130T145236Z
LAST-MODIFIED:20211214T191900Z
UID:14425-1649703600-1649710800@stdominicdelhi-school.org
SUMMARY:Education Commission Meeting
DESCRIPTION:School Library
URL:https://stdominicdelhi-school.org/event/education-commission-meeting-5/
END:VEVENT
BEGIN:VEVENT
DTSTART;VALUE=DATE:20220413
DTEND;VALUE=DATE:20220414
DTSTAMP:20260422T164850
CREATED:20220122T122714Z
LAST-MODIFIED:20220122T122714Z
UID:14823-1649808000-1649894399@stdominicdelhi-school.org
SUMMARY:STEM Club - 5th-8th Grade
DESCRIPTION:
URL:https://stdominicdelhi-school.org/event/stem-club-5th-8th-grade-4/
END:VEVENT
BEGIN:VEVENT
DTSTART;VALUE=DATE:20220414
DTEND;VALUE=DATE:20220415
DTSTAMP:20260422T164850
CREATED:20220122T122741Z
LAST-MODIFIED:20220122T122741Z
UID:14825-1649894400-1649980799@stdominicdelhi-school.org
SUMMARY:Blackhawk Singers
DESCRIPTION:
URL:https://stdominicdelhi-school.org/event/blackhawk-singers-13/
END:VEVENT
BEGIN:VEVENT
DTSTART;VALUE=DATE:20220415
DTEND;VALUE=DATE:20220416
DTSTAMP:20260422T164850
CREATED:20211129T021847Z
LAST-MODIFIED:20211214T191841Z
UID:14286-1649980800-1650067199@stdominicdelhi-school.org
SUMMARY:Good Friday - School Closed
DESCRIPTION:
URL:https://stdominicdelhi-school.org/event/good-friday-school-closed/
END:VEVENT
BEGIN:VEVENT
DTSTART;VALUE=DATE:20220418
DTEND;VALUE=DATE:20220419
DTSTAMP:20260422T164850
CREATED:20211129T021920Z
LAST-MODIFIED:20211214T191824Z
UID:14288-1650240000-1650326399@stdominicdelhi-school.org
SUMMARY:Easter Monday - School Closed
DESCRIPTION:
URL:https://stdominicdelhi-school.org/event/easter-monday-school-closed/
END:VEVENT
BEGIN:VEVENT
DTSTART;VALUE=DATE:20220421
DTEND;VALUE=DATE:20220422
DTSTAMP:20260422T164850
CREATED:20220122T122828Z
LAST-MODIFIED:20220122T122828Z
UID:14827-1650499200-1650585599@stdominicdelhi-school.org
SUMMARY:Blackhawk Singers
DESCRIPTION:
URL:https://stdominicdelhi-school.org/event/blackhawk-singers-14/
END:VEVENT
BEGIN:VEVENT
DTSTART;VALUE=DATE:20220427
DTEND;VALUE=DATE:20220428
DTSTAMP:20260422T164850
CREATED:20220122T122905Z
LAST-MODIFIED:20220122T122905Z
UID:14829-1651017600-1651103999@stdominicdelhi-school.org
SUMMARY:STEM Club - 3rd & 4th Grade
DESCRIPTION:
URL:https://stdominicdelhi-school.org/event/stem-club-3rd-4th-grade-3/
END:VEVENT
BEGIN:VEVENT
DTSTART;VALUE=DATE:20220428
DTEND;VALUE=DATE:20220429
DTSTAMP:20260422T164850
CREATED:20220122T122937Z
LAST-MODIFIED:20220122T122937Z
UID:14831-1651104000-1651190399@stdominicdelhi-school.org
SUMMARY:Blackhawk Singers
DESCRIPTION:
URL:https://stdominicdelhi-school.org/event/blackhawk-singers-15/
END:VEVENT
END:VCALENDAR